BEGIN:VCALENDAR
VERSION:2.0
PRODID:icalendar-ruby
CALSCALE:GREGORIAN
METHOD:PUBLISH
BEGIN:VEVENT
DTSTAMP:20260425T201320Z
UID:event-41338@stampinup.net
DTSTART;TZID=America/New_York:20200329T200000
DTEND;TZID=America/New_York:20200329T200000
CREATED:20200204T125310
DESCRIPTION:Join me and my fellow North Carolina Stampin' Up! demonstrators
  as we share tips\, tricks and fantastic projects each month.\nYou can sta
 rt at my blong\, www.thesassystamper.com\n\nEvent link: https://stampinup
 .net/crm/events/41338
LAST-MODIFIED:20200204T125310
ORGANIZER;CN=Tracie Langley:mailto:tracie@stampwithtracie.com
SUMMARY:The NC Demos Blog Hop
URL;VALUE=URI:https://stampinup.net/crm/events/41338
END:VEVENT
END:VCALENDAR
