BEGIN:VCALENDAR
VERSION:2.0
PRODID:icalendar-ruby
CALSCALE:GREGORIAN
METHOD:PUBLISH
BEGIN:VEVENT
DTSTAMP:20260422T171718Z
UID:event-41017@stampinup.net
DTSTART;TZID=America/Chicago:20200224T183000
DTEND;TZID=America/Chicago:20200224T210000
CREATED:20200203T184953
DESCRIPTION:DATES:  MON – FEB 24TH    – 9:30AM &amp\; 6:30PM**\n\nS
 ome coffee and a bunch of cards.  Make my favorites for the month at this
  class.  4 Cards with envelopes**\nReserve your spot here.\n\n\nEvent lin
 k: https://stampinup.net/crm/events/41017
LAST-MODIFIED:20200203T184953
LOCATION:Sarah's Stampin' Studio\, W326S4587 Bartell Rd Waukesha\, WI  
ORGANIZER;CN=Sarah Schueler:mailto:stampwithsarah@wi.rr.com
SUMMARY:Cards & Coffee
URL;VALUE=URI:https://stampinup.net/crm/events/41017
END:VEVENT
END:VCALENDAR
