BEGIN:VCALENDAR
VERSION:2.0
PRODID:icalendar-ruby
CALSCALE:GREGORIAN
METHOD:PUBLISH
BEGIN:VEVENT
DTSTAMP:20260422T073400Z
UID:event-4068@stampinup.net
DTSTART;TZID=America/Chicago:20191006T153000
DTEND;TZID=America/Chicago:20191006T180000
CREATED:20190912T065635
DESCRIPTION:Kennon and her friends will be making banners. You could also c
 all them buntings or pennants\, whatever you call it\, it's going to be fu
 n.\n\nDo you want to have a DIY event with your friends? Contact me to day
  so we can set it up!\n\nEvent link: https://stampinup.net/crm/events/4068
LAST-MODIFIED:20190912T065635
LOCATION:Her Place
ORGANIZER;CN=Marion Dornan:mailto:Marion.Creates@yahoo.com
SUMMARY:Crafting Kennon & her Friends
URL;VALUE=URI:https://stampinup.net/crm/events/4068
END:VEVENT
END:VCALENDAR
