BEGIN:VCALENDAR
VERSION:2.0
PRODID:icalendar-ruby
CALSCALE:GREGORIAN
METHOD:PUBLISH
BEGIN:VEVENT
DTSTAMP:20260419T210608Z
UID:event-4007@stampinup.net
DTSTART;TZID=Australia/Sydney:20190919T190000
DTEND;TZID=Australia/Sydney:20190919T213000
CREATED:20190912T062703
DESCRIPTION:Stamp A Stack \n\nBook via Cake &amp\; Plate \nShop 9 Niagara P
 ark Shopping Centre \n16 Washington Ave \nNiagara Park NSW 2250\n02 432818
 19 \n\nOr Messaging me via private message\, Email me ctheuston@hotmail.co
 m or msg me 0411283376 to confirm your place at the table. \n\nWhat is a S
 tamp-a-Stack? \nIt is exactly as it sounds - the group get to make a stack
  of cards in a short amount of time. \nThese are held at Cake &amp\; Plate
  Niagara Park and will cost $35.\nYou will make 6 cards\, 3 styles - 2 of 
 each one. \nEnvelopes for each card are included. \nYou don't need to brin
 g anything and cards are geared to all skill levels. \nSupper is supplied 
 with tea or coffee. \n\nEvent link: https://stampinup.net/crm/events/4007
LAST-MODIFIED:20190912T062703
LOCATION:Cake & Plate Niagara Park\, Shop 9/16 Washington Avenue\, NIAGARA 
 PARK NSW 2250 
ORGANIZER;CN=Courtenay Heuston:mailto:ctheuston@hotmail.com
SUMMARY:Cake & Plate Stamp a Stack
URL;VALUE=URI:https://stampinup.net/crm/events/4007
END:VEVENT
END:VCALENDAR
