BEGIN:VCALENDAR
VERSION:2.0
PRODID:icalendar-ruby
CALSCALE:GREGORIAN
METHOD:PUBLISH
BEGIN:VEVENT
DTSTAMP:20260424T011733Z
UID:event-3942@stampinup.net
DTSTART;TZID=America/New_York:20190920T090000
DTEND;TZID=America/New_York:20190922T170000
CREATED:20190912T054959
DESCRIPTION:I'll be scrapbooking this weekend.  Contact Beth if you want t
 o come too.  I'll bring a few retired items and adhesives for sale too - 
 is there anything specific you are looking for?\n\nEvent link: https://sta
 mpinup.net/crm/events/3942
LAST-MODIFIED:20190913T131914
LOCATION:Quality Inn\, Erie
ORGANIZER;CN=Kim Wilson:mailto:kim@craftdoc.com
SUMMARY:Beth's Crafty Weekend
URL;VALUE=URI:https://stampinup.net/crm/events/3942
END:VEVENT
END:VCALENDAR
