BEGIN:VCALENDAR
VERSION:2.0
PRODID:icalendar-ruby
CALSCALE:GREGORIAN
METHOD:PUBLISH
BEGIN:VEVENT
DTSTAMP:20260421T155409Z
UID:event-3919@stampinup.net
DTSTART;VALUE=DATE:20190904
DTEND;VALUE=DATE:20200102
CREATED:20190912T053239
DESCRIPTION:Get ready for the holidays! Everything you need for all of your
  fall crafting is in this awesome new catalog! \n\nEvent link: https://st
 ampinup.net/crm/events/3919
LAST-MODIFIED:20191008T114707
ORGANIZER;CN=Dena Lenneman:mailto:dena@lenneman.com
SUMMARY:Holiday Catalog!
URL;VALUE=URI:https://stampinup.net/crm/events/3919
END:VEVENT
END:VCALENDAR
