BEGIN:VCALENDAR
VERSION:2.0
PRODID:icalendar-ruby
CALSCALE:GREGORIAN
METHOD:PUBLISH
BEGIN:VEVENT
DTSTAMP:20260419T115753Z
UID:event-38633@stampinup.net
DTSTART;TZID=America/New_York:20200205T110000
DTEND;TZID=America/New_York:20200205T120000
CREATED:20200122T114016
DESCRIPTION:Get ready for three months of decor with this quick and easy Sh
 adowbox Sampler session which will include Christmas\, Winter and Valentin
 e's Day!  Do one or all three! All three samplers will follow the pattern
  show for Chistmas.  \n\n12 x 12 Sampler $28\n\n Don't know what a shad
 owbox or sampler is?   Visit my pinterest page to see some of my past pr
 ojects as well as some that have inspired me!\n\n ALL supplies to create 
 the Sampler\, including adhesive\, will be provided.  12 x 12 frames are
  not included.\n\nThis is a pre-paid event. I must receive payment from yo
 u to hold your spot.  Space is limited to six stampers per session\, so r
 egister early to ensure you spot!\n\n\nEvent link: https://stampinup.net/c
 rm/events/38633
LAST-MODIFIED:20200122T114016
LOCATION:the Stamp Pad
ORGANIZER;CN=Tracie Langley:mailto:tracie@stampwithtracie.com
SUMMARY:Decor Day - Get a Sample
URL;VALUE=URI:https://stampinup.net/crm/events/38633
END:VEVENT
END:VCALENDAR
