BEGIN:VCALENDAR
VERSION:2.0
PRODID:icalendar-ruby
CALSCALE:GREGORIAN
METHOD:PUBLISH
BEGIN:VEVENT
DTSTAMP:20260421T133922Z
UID:event-38516@stampinup.net
DTSTART;TZID=America/Los_Angeles:20200206T183000
DTEND;TZID=America/Los_Angeles:20200206T210000
CREATED:20200121T173029
DESCRIPTION:For February Demo Club!  We'll be making 3 cards.  Please bri
 ng your usual supplies.  No Cost for my Downlines :) -  See you then!  
 If you'd like to join my downline family\, please let me know.  I'd love 
 for you to join us at our Demo Club Workshop!  It's Sale-a-Bration Time -
  The BEST time to join S'Up!\n\nEvent link: https://stampinup.net/crm/even
 ts/38516
LAST-MODIFIED:20200121T173029
LOCATION:At Barb's\, 220 W Javis Ave
ORGANIZER;CN=Barbara Mann:mailto:barbmann@mchsi.com
SUMMARY:Demo Club Workshop
URL;VALUE=URI:https://stampinup.net/crm/events/38516
END:VEVENT
END:VCALENDAR
