BEGIN:VCALENDAR
VERSION:2.0
PRODID:icalendar-ruby
CALSCALE:GREGORIAN
METHOD:PUBLISH
BEGIN:VEVENT
DTSTAMP:20260421T003927Z
UID:event-38515@stampinup.net
DTSTART;TZID=America/Los_Angeles:20200205T183000
DTEND;TZID=America/Los_Angeles:20200205T213000
CREATED:20200121T172906
DESCRIPTION:Wednesday Night card workshop Hostess is Dodie (Tues Gal).  We
 'll be making 3 cards.  Please bring your usual supplies.  Cost for gues
 ts (not club members) - $10 or free with a minimum $35 order (that’s be
 fore shipping &amp\; sales tax).  See you then!\n\nEvent link: https://st
 ampinup.net/crm/events/38515
LAST-MODIFIED:20200121T172906
LOCATION:At Barb's\, 220 W Javis Ave
ORGANIZER;CN=Barbara Mann:mailto:barbmann@mchsi.com
SUMMARY:Wednesday Night  Card Workshop
URL;VALUE=URI:https://stampinup.net/crm/events/38515
END:VEVENT
END:VCALENDAR
