BEGIN:VCALENDAR
VERSION:2.0
PRODID:icalendar-ruby
CALSCALE:GREGORIAN
METHOD:PUBLISH
BEGIN:VEVENT
DTSTAMP:20260424T124054Z
UID:event-3721@stampinup.net
DTSTART;TZID=America/New_York:20191217T190000
DTEND;TZID=America/New_York:20191217T210000
CREATED:20190912T003915
DESCRIPTION:Latte Joy Stampers Team Meeting\n\nEvent link: https://stampinu
 p.net/crm/events/3721
LAST-MODIFIED:20190912T003915
ORGANIZER;CN=Dawn Stock:mailto:StampingWithDawn@hotmail.com
SUMMARY:Latte Joy Stampers TEAM Meeting
URL;VALUE=URI:https://stampinup.net/crm/events/3721
END:VEVENT
END:VCALENDAR
