BEGIN:VCALENDAR
VERSION:2.0
PRODID:icalendar-ruby
CALSCALE:GREGORIAN
METHOD:PUBLISH
BEGIN:VEVENT
DTSTAMP:20260423T145339Z
UID:event-3665@stampinup.net
DTSTART;VALUE=DATE:20191128
DTEND;VALUE=DATE:20191128
CREATED:20190911T235908
DESCRIPTION:Give thanks to the Lord\, for he is good\;\nhis love endures fo
 rever.\nPsalm 118:1 (NIV)\n\nEvent link: https://stampinup.net/crm/events/
 3665
LAST-MODIFIED:20190911T235908
ORGANIZER;CN=Dawn Stock:mailto:StampingWithDawn@hotmail.com
SUMMARY:Happy Thanksgiving!
URL;VALUE=URI:https://stampinup.net/crm/events/3665
END:VEVENT
END:VCALENDAR
