BEGIN:VCALENDAR
VERSION:2.0
PRODID:icalendar-ruby
CALSCALE:GREGORIAN
METHOD:PUBLISH
BEGIN:VEVENT
DTSTAMP:20260421T202731Z
UID:event-36604@stampinup.net
DTSTART;TZID=America/Los_Angeles:20200201T090000
DTEND;TZID=America/Los_Angeles:20200201T100000
CREATED:20200113T165011
DESCRIPTION:At this class we will make 3 quick cards. Please bring your JAN
 UARY kit stamps\, clear blocks and adhesive with you\, as we will use the 
 stamps from the kit. I will provide all other supplies. Class is FREE with
  subscription to Paper Pumpkin through me. Register today using the RSVP l
 ink below.  \n\nEvent link: https://stampinup.net/crm/events/36604
LAST-MODIFIED:20200113T165011
LOCATION:Michelle's Stamp Studio\, Petaluma\, CA  
ORGANIZER;CN=Michelle Huff:mailto:iamstamper@gmail.com
SUMMARY:FREE PAPER PUMPIN CLASS - JAN
URL;VALUE=URI:https://stampinup.net/crm/events/36604
END:VEVENT
END:VCALENDAR
