BEGIN:VCALENDAR
VERSION:2.0
PRODID:icalendar-ruby
CALSCALE:GREGORIAN
METHOD:PUBLISH
BEGIN:VEVENT
DTSTAMP:20260426T015639Z
UID:event-35695@stampinup.net
DTSTART;TZID=America/New_York:20200222T133000
DTEND;TZID=America/New_York:20200222T163000
CREATED:20200109T112954
DESCRIPTION:Come shop our Crafty Garage Sale!\nWe will be running our next 
 BOGO event with Crop Kingston at the February Crop! Come join us from 1:30
 -4:30 (don't worry\, if you've registered for the crop you can shop from 9
 am-7pm!). For every dollar you spend in the Stampin' Up! catalog (before s
 hipping and taxes) you can choose the equivalent dollar value from the ret
 ired merchandise in our crafty garage sale!\nWide variety of paper craftin
 g supplies--(retired Stampin' Up! products for sale). 10% of all sales wil
 l be donated to our charity of the month!\nGarage sale is open to crop att
 endees shortly after the crop opens\, and to the general public from 1:30-
 4:30pm.\n \n\nEvent link: https://stampinup.net/crm/events/35695
LAST-MODIFIED:20200129T193808
LOCATION:Salvation Army Citadel\, Centennial Dr.\, Kingston
ORGANIZER;CN=Lisa Henderson:mailto:lisa.henderson003@gmail.com
SUMMARY:Crafty Garage Sale-BOGO!
URL;VALUE=URI:https://stampinup.net/crm/events/35695
END:VEVENT
END:VCALENDAR
