BEGIN:VCALENDAR
VERSION:2.0
PRODID:icalendar-ruby
CALSCALE:GREGORIAN
METHOD:PUBLISH
BEGIN:VEVENT
DTSTAMP:20260423T073639Z
UID:event-35688@stampinup.net
DTSTART;TZID=America/Los_Angeles:20200116T190000
DTEND;TZID=America/Los_Angeles:20200116T210000
CREATED:20200109T111852
DESCRIPTION:\n\nEvent link: https://stampinup.net/crm/events/35688
LAST-MODIFIED:20200109T111852
LOCATION:24-7 Inkspiration Studio & FB Live
ORGANIZER;CN=Diane Browning:mailto:SCRAPBKHEAVEN1@AOL.COM
SUMMARY:Downline Meeting
URL;VALUE=URI:https://stampinup.net/crm/events/35688
RRULE:FREQ=MONTHLY;COUNT=15;BYDAY=3TH
END:VEVENT
END:VCALENDAR
