BEGIN:VCALENDAR
VERSION:2.0
PRODID:icalendar-ruby
CALSCALE:GREGORIAN
METHOD:PUBLISH
BEGIN:VEVENT
DTSTAMP:20260422T222640Z
UID:event-3568@stampinup.net
DTSTART;TZID=America/New_York:20190802T090000
DTEND;TZID=America/New_York:20190802T213000
CREATED:20190911T225604
DESCRIPTION:All three levels of Latte Joy Stampers are invited to Facebook 
 Live on Friday evenings at 9pm Eastern on our Team Facebook Group. Post yo
 ur questions and let's talk!\n\nEvent link: https://stampinup.net/crm/even
 ts/3568
LAST-MODIFIED:20190911T225604
ORGANIZER;CN=Dawn Stock:mailto:StampingWithDawn@hotmail.com
SUMMARY:LJS Team Facebook Training
URL;VALUE=URI:https://stampinup.net/crm/events/3568
RRULE:FREQ=WEEKLY;UNTIL=20190928T013000Z;BYDAY=FR
END:VEVENT
END:VCALENDAR
