BEGIN:VCALENDAR
VERSION:2.0
PRODID:icalendar-ruby
CALSCALE:GREGORIAN
METHOD:PUBLISH
BEGIN:VEVENT
DTSTAMP:20260421T184305Z
UID:event-3553@stampinup.net
DTSTART;TZID=America/New_York:20191228T090000
DTEND;TZID=America/New_York:20191228T120000
CREATED:20190911T224611
DESCRIPTION:Monthly All Occasions Card Class. $20. You will make 8 cards (4
  designs\, 2 each design). RSVP 48 hours before class. Class size is limit
 ed so contact me to reserve your spot!  **This class is FREE with a minim
 um purchase placed during class.**\n\nEvent link: https://stampinup.net/cr
 m/events/3553
LAST-MODIFIED:20190911T224611
ORGANIZER;CN=Dawn Stock:mailto:StampingWithDawn@hotmail.com
SUMMARY:All Occasions Card Class
URL;VALUE=URI:https://stampinup.net/crm/events/3553
END:VEVENT
END:VCALENDAR
