BEGIN:VCALENDAR
VERSION:2.0
PRODID:icalendar-ruby
CALSCALE:GREGORIAN
METHOD:PUBLISH
BEGIN:VEVENT
DTSTAMP:20260422T045536Z
UID:event-35526@stampinup.net
DTSTART;TZID=America/Phoenix:20200210T183000
DTEND;TZID=America/Phoenix:20200210T203000
CREATED:20200109T063541
DESCRIPTION:Thanks\, Nancy\, for planning a private party. Contact me to sc
 hedule your own party!\n\nEvent link: https://stampinup.net/crm/events/355
 26
LAST-MODIFIED:20200109T063541
ORGANIZER;CN=Kim Quade:mailto:kimqskards@gmail.com
SUMMARY:Nancy's Private Party
URL;VALUE=URI:https://stampinup.net/crm/events/35526
END:VEVENT
END:VCALENDAR
