BEGIN:VCALENDAR
VERSION:2.0
PRODID:icalendar-ruby
CALSCALE:GREGORIAN
METHOD:PUBLISH
BEGIN:VEVENT
DTSTAMP:20260421T050206Z
UID:event-35521@stampinup.net
DTSTART;TZID=America/Phoenix:20200213T100000
DTEND;TZID=America/Phoenix:20200213T110000
CREATED:20200109T062714
DESCRIPTION:Join me to create two clean and simple cards using rubber stamp
 s\, ink\, and paper. Cost is $10 and include a $5 QC Junction gift card wi
 th which to purchase a snack or beverage of your choice. Please RSVP.\n\nE
 vent link: https://stampinup.net/crm/events/35521
LAST-MODIFIED:20200109T062714
LOCATION:QC Junction Cafe\, 20275 E Rittenhouse\, Queen Creek\, AZ
ORGANIZER;CN=Kim Quade:mailto:kimqskards@gmail.com
SUMMARY:Stampin' Up! Coffee and Cards
URL;VALUE=URI:https://stampinup.net/crm/events/35521
END:VEVENT
END:VCALENDAR
