BEGIN:VCALENDAR
VERSION:2.0
PRODID:icalendar-ruby
CALSCALE:GREGORIAN
METHOD:PUBLISH
BEGIN:VEVENT
DTSTAMP:20260423T120037Z
UID:event-35247@stampinup.net
DTSTART;TZID=America/New_York:20200126T140000
DTEND;TZID=America/New_York:20200126T160000
CREATED:20200108T120621
DESCRIPTION:Come make as many quick and easy cards as you like or have time
  to make at this monthly event for just $2 each!. Each month will feature 
 a different theme with three to six designs. Please note that the designs 
 will have some color and embellishment variations due to packaging availab
 ility of DSP\, ribbon and other embellishments.\n\nIn January and February
  we will be creating all occasions cards perfect for birthdays\, thank you
 's\, anniversaries\, get well and more!\n\nUnless\, this is your FIRST sta
 mping event\, your own adhesive is a MUST! This includes SNAIL\, dimension
 als\, glue dots\, glue\, tape\, etc...All other supplies will be provided.
 \n\nThere are ONLY 6 spots available for each session. Contact me today t
 o reserve yours!\n\n\nEvent link: https://stampinup.net/crm/events/35247
LAST-MODIFIED:20200108T120621
LOCATION:the Stamp Pad
ORGANIZER;CN=Tracie Langley:mailto:tracie@stampwithtracie.com
SUMMARY:Cute Cards Quick
URL;VALUE=URI:https://stampinup.net/crm/events/35247
END:VEVENT
END:VCALENDAR
