BEGIN:VCALENDAR
VERSION:2.0
PRODID:icalendar-ruby
CALSCALE:GREGORIAN
METHOD:PUBLISH
BEGIN:VEVENT
DTSTAMP:20260425T161422Z
UID:event-35199@stampinup.net
DTSTART;TZID=America/New_York:20200114T120000
DTEND;TZID=America/New_York:20200114T190000
CREATED:20200108T102923
DESCRIPTION:It's time to celebrate the best part of the Stampin' Up! year!
   Sale-A-Braton is here!  Join the fun as we kick off the New Year at t
 he Stamp Pad with this annual tradition!\n\nCreate two projects featuring 
 Sale-A-Braton products!\nFabulous Door Prizes!\nGet YOUR free copy of the 
 2020 SAB brochure and June to July Mini Catty!\nReceive FREE products with
  your SAB qualifying order!\nShare your creativity with fellow stampers!\n
 Yummy refreshments!\n\nCost for this event is $5 or FREE with your SAB qua
 lifying order ($50 before tax and shipping)\n\nReserve your spot by Sunday
 \, January 12th.\n\n\nEvent link: https://stampinup.net/crm/events/35199
LAST-MODIFIED:20200108T102923
LOCATION:the Stamp Pad
ORGANIZER;CN=Tracie Langley:mailto:tracie@stampwithtracie.com
SUMMARY:Sale-A-Bration Celebration
URL;VALUE=URI:https://stampinup.net/crm/events/35199
END:VEVENT
END:VCALENDAR
