BEGIN:VCALENDAR
VERSION:2.0
PRODID:icalendar-ruby
CALSCALE:GREGORIAN
METHOD:PUBLISH
BEGIN:VEVENT
DTSTAMP:20260422T095601Z
UID:event-35087@stampinup.net
DTSTART;TZID=America/Chicago:20200112T140000
DTEND;TZID=America/Chicago:20200112T160000
CREATED:20200107T220510
DESCRIPTION:So sorry for any confusion regarding class this Sunday!!!  We 
 ARE having Technique Class.  We'll learn two new techniques/or fancy fold
 s.  \n\nCost is $10 or FREE with a $50 purchase and since it is Sale-A-B
 ration time\, every $50 purchase allows you to pick FREE product from our 
 Sale-A-Bration brochure!!!!  \n \n\nEvent link: https://stampinup.net/c
 rm/events/35087
LAST-MODIFIED:20200107T220510
LOCATION:Ruthie's House 817-991-8815\, 6705 Fire Hill Drive\, FTW 76137  
ORGANIZER;CN=Ruthie Burkey:mailto:ruthieb76137@yahoo.com
SUMMARY:Technique Class
URL;VALUE=URI:https://stampinup.net/crm/events/35087
END:VEVENT
END:VCALENDAR
