BEGIN:VCALENDAR
VERSION:2.0
PRODID:icalendar-ruby
CALSCALE:GREGORIAN
METHOD:PUBLISH
BEGIN:VEVENT
DTSTAMP:20260424T173342Z
UID:event-34958@stampinup.net
DTSTART;TZID=Pacific/Auckland:20200215T133000
DTEND;TZID=Pacific/Auckland:20200215T160000
CREATED:20200107T171610
DESCRIPTION:Join this social group for crafting fun where I show you how to
  make handmade cards.\nAll materials are supplied along with free tea &amp
 \; coffee and sweet treat.\nSpaces are limited so book early using this li
 nk to secure your booking. Please contact me if you need more details.\n\n
 Event link: https://stampinup.net/crm/events/34958
LAST-MODIFIED:20200107T171934
LOCATION:Confetti Card Studio\, Once you register
ORGANIZER;CN=Vanessa Baker:mailto:vanessa@confetticardstudio.nz
SUMMARY:Card Making Class Project Set 1
URL;VALUE=URI:https://stampinup.net/crm/events/34958
END:VEVENT
END:VCALENDAR
