BEGIN:VCALENDAR
VERSION:2.0
PRODID:icalendar-ruby
CALSCALE:GREGORIAN
METHOD:PUBLISH
BEGIN:VEVENT
DTSTAMP:20260419T192015Z
UID:event-34953@stampinup.net
DTSTART;TZID=Pacific/Auckland:20200130T190000
DTEND;TZID=Pacific/Auckland:20200130T213000
CREATED:20200107T170941
DESCRIPTION:Join this social group for crafting fun where I show you how to
  make handmade cards.\nAll materials are supplied along with free tea &amp
 \; coffee and sweet treat.\nSpaces are limited so book early using this li
 nk to secure your booking. Please contact me if you need more details.\n\n
 Event link: https://stampinup.net/crm/events/34953
LAST-MODIFIED:20200107T170941
LOCATION:Confetti Card Studio\, Once you register
ORGANIZER;CN=Vanessa Baker:mailto:vanessa@confetticardstudio.nz
SUMMARY:Card Making Class Project Set 2
URL;VALUE=URI:https://stampinup.net/crm/events/34953
END:VEVENT
END:VCALENDAR
