BEGIN:VCALENDAR
VERSION:2.0
PRODID:icalendar-ruby
CALSCALE:GREGORIAN
METHOD:PUBLISH
BEGIN:VEVENT
DTSTAMP:20260423T190429Z
UID:event-3478@stampinup.net
DTSTART;TZID=America/Chicago:20191123T100000
DTEND;TZID=America/Chicago:20191123T150000
CREATED:20190911T214621
DESCRIPTION:Join us today for our Winter Craft Fair\nI will be set up with 
 my Stampin Up! Cards and Crafts!\n10 am - 3 pm\n \n\nEvent link: https://
 stampinup.net/crm/events/3478
LAST-MODIFIED:20191028T213056
LOCATION:Prairieland Community Hall\, Kerrobert Saskatchewan Highway 21
ORGANIZER;CN=Michelle Clarke:mailto:robizz@live.com
SUMMARY:Kerrobert Craft Fair
URL;VALUE=URI:https://stampinup.net/crm/events/3478
END:VEVENT
END:VCALENDAR
