BEGIN:VCALENDAR
VERSION:2.0
PRODID:icalendar-ruby
CALSCALE:GREGORIAN
METHOD:PUBLISH
BEGIN:VEVENT
DTSTAMP:20260419T232552Z
UID:event-3468@stampinup.net
DTSTART;TZID=America/Los_Angeles:20190928T100000
DTEND;TZID=America/Los_Angeles:20190928T113000
CREATED:20190911T214134
DESCRIPTION:\n\nEvent link: https://stampinup.net/crm/events/3468
LAST-MODIFIED:20190911T214248
LOCATION:My House
ORGANIZER;CN=Ange McKay:mailto:ange306@me.com
SUMMARY:Technique Club
URL;VALUE=URI:https://stampinup.net/crm/events/3468
RRULE:FREQ=MONTHLY;COUNT=10;BYDAY=4SA
END:VEVENT
END:VCALENDAR
