BEGIN:VCALENDAR
VERSION:2.0
PRODID:icalendar-ruby
CALSCALE:GREGORIAN
METHOD:PUBLISH
BEGIN:VEVENT
DTSTAMP:20260425T214817Z
UID:event-3463@stampinup.net
DTSTART;TZID=America/Denver:20191019T090000
DTEND;TZID=America/Denver:20191019T140000
CREATED:20190911T213436
DESCRIPTION:I'm so excited! It's my first time at this fun event. Be sure a
 nd stop by my booth! I will also have Chalk Couture Home Decor along with 
 Stampin' Up! treats &amp\; goodies for everyone on your Holiday shopping l
 ist!\n\nJoin us on Saturday\, Oct. 19th from 9am-2pm for our Holiday Craft
  Show where we will feature local crafters from the entire Front Range of 
 Colorado. Vendors include items such as jewelry\, Christmas\, Halloween de
 cor\, teacher gifts\, Fall/Thanksgiving decor\, home decor\, quilting\, ki
 tchen crafts and utensils\, scentsy\, nail art\, baked goods and so much m
 ore! Entry is free!\n\nCLICK HERE for more information.\n\nEvent link: htt
 ps://stampinup.net/crm/events/3463
LAST-MODIFIED:20190913T090807
LOCATION:United Methodist Church\, 108 King Ave. Johnstown. CO 80534
ORGANIZER;CN=RaeJean Communal:mailto:rjcommunal@gmail.com
SUMMARY:UMC Holiday Craft Fair Johnstown
URL;VALUE=URI:https://stampinup.net/crm/events/3463
END:VEVENT
END:VCALENDAR
