BEGIN:VCALENDAR
VERSION:2.0
PRODID:icalendar-ruby
CALSCALE:GREGORIAN
METHOD:PUBLISH
BEGIN:VEVENT
DTSTAMP:20260424T155409Z
UID:event-3431@stampinup.net
DTSTART;TZID=America/Denver:20190928T130000
DTEND;TZID=America/Denver:20190928T200000
CREATED:20190911T212247
DESCRIPTION:Join us at the Kindersley Canalta Hotel for a day of Card Makin
 g!\nThis will be our 3rd Event and it is so much fun!\nCome and choose the
  projects you want to make\, bring a friend and have fun!\n\nEvent link: h
 ttps://stampinup.net/crm/events/3431
LAST-MODIFIED:20190911T214245
LOCATION:Canalta Hotel - Kindersley\, Saskatchewan\, Highway 7 West
ORGANIZER;CN=Michelle Clarke:mailto:robizz@live.com
SUMMARY:Goose Festival Card Making Event!
URL;VALUE=URI:https://stampinup.net/crm/events/3431
END:VEVENT
END:VCALENDAR
