BEGIN:VCALENDAR
VERSION:2.0
PRODID:icalendar-ruby
CALSCALE:GREGORIAN
METHOD:PUBLISH
BEGIN:VEVENT
DTSTAMP:20260421T133922Z
UID:event-33875@stampinup.net
DTSTART;TZID=America/New_York:20200117T100000
DTEND;TZID=America/New_York:20200117T120000
CREATED:20200104T175405
DESCRIPTION:**This is the morning class**\n\nWe'll be making 5 different ca
 rds with envelopes using the Painted Poppies bundle.\n\nClass includes:\n
  * pack of Peaceful Poppies DSP\n * pkg of Peaceful Poppies Elements\n 
 * roll of Black 5/8" Glittered Organdy Ribbon\n\nThese items will be used 
 on your projects\, but there will be lots left to take home!\n\nClass fee:
  $37\, due with registration\nRSVP by Tuesday\, 1/7/2020\n\n\n \n\nEvent 
 link: https://stampinup.net/crm/events/33875
LAST-MODIFIED:20200104T182019
LOCATION:my home
ORGANIZER;CN=Stephanie Flath:mailto:stephanieflath@gmail.com
SUMMARY:PAINTED POPPIES CARD CLASS
URL;VALUE=URI:https://stampinup.net/crm/events/33875
END:VEVENT
END:VCALENDAR
