BEGIN:VCALENDAR
VERSION:2.0
PRODID:icalendar-ruby
CALSCALE:GREGORIAN
METHOD:PUBLISH
BEGIN:VEVENT
DTSTAMP:20260424T125011Z
UID:event-3355@stampinup.net
DTSTART;TZID=America/Chicago:20190924T190000
DTEND;TZID=America/Chicago:20190924T200000
CREATED:20190911T205535
DESCRIPTION:Join Ginger Borneman for a Sip and Stamp event. Create two hand
 made greeting cards using Stampin' Up! products while sipping a beverage o
 f your choice. Cost is $12 and includes a $7 RNJ gift card with which to m
 ake a purchase.\n\nEvent link: https://stampinup.net/crm/events/3355
LAST-MODIFIED:20190911T212806
LOCATION:Rock N Joe\, 5025 Lindberg
ORGANIZER;CN=Kim Quade:mailto:kimqskards@gmail.com
SUMMARY:Sip and Stamp-Lincoln
URL;VALUE=URI:https://stampinup.net/crm/events/3355
END:VEVENT
END:VCALENDAR
