BEGIN:VCALENDAR
VERSION:2.0
PRODID:icalendar-ruby
CALSCALE:GREGORIAN
METHOD:PUBLISH
BEGIN:VEVENT
DTSTAMP:20260419T205345Z
UID:event-33156@stampinup.net
DTSTART;TZID=America/New_York:20210709T184500
DTEND;TZID=America/New_York:20210709T213000
CREATED:20200103T083524
DESCRIPTION:This is a paper crafting class for adults\, featuring 3 project
 s made with Stampin' Up! products. Classes are offered LIVE and as a CLASS
 -TO-GO\, through my FREE Card Kits Program. There's a link below for more 
 details.\n\nProjects range in complexity from Clean &amp\; Simple to more 
 advanced cards and techniques. The class is suitable for participants with
  any level of paper crafting experience.\n\nPLEASE RSVP BY the Wednesday b
 efore the event. Class fee is just $6 for first-time visitors (this is hal
 f of the regular class fee). Class Fee is waived with qualifying purchase.
  Classes taught by Melissa Kerman\, Stampin' Up! demonstrator since 2003!\
 n\nGET NOTIFIED OF FUTURE EVENTS and stay up to date on the latest news by
  subscribing to my weekly newsletter. Click here to subscribe: http://meli
 ssascraftingtreehouse.com/newsletter-optin/\n\nPlease note: To attend the 
 LIVE\, In-Person class\, you must be ok with climbing two flights of stair
 s to get to my classroom.\n\nCAN'T ATTEND THE LIVE\, IN-PERSON EVENT? Clic
 k the link below to learn more about taking this class as a Class-To-Go th
 rough my Free Card Kits Program OR Online Club.\n\nLearn more about my Fre
 e Card Kit Program here: https://melissascraftingtreehouse.com/tutorials-c
 lasses-to-go/free-card-kits-program/\n\nLearn more about joining an Online
  Club here:\nhttps://melissascraftingtreehouse.com/tutorials-classes-to-go
 /online-stampers-club-details-benefits/\n\n \n\n\nEvent link: https://sta
 mpinup.net/crm/events/33156
LAST-MODIFIED:20200103T083524
LOCATION:Melissa's Crafting Treehouse\, Camrose Crossing Lane\, Matthews\, 
 NC
ORGANIZER;CN=Melissa Kerman:mailto:create@melissascraftingtreehouse.com
SUMMARY:Paper Crafting Class
URL;VALUE=URI:https://stampinup.net/crm/events/33156
END:VEVENT
END:VCALENDAR
