BEGIN:VCALENDAR
VERSION:2.0
PRODID:icalendar-ruby
CALSCALE:GREGORIAN
METHOD:PUBLISH
BEGIN:VEVENT
DTSTAMP:20260421T202731Z
UID:event-33055@stampinup.net
DTSTART;TZID=Australia/Sydney:20200211T100000
DTEND;TZID=Australia/Sydney:20200211T120000
CREATED:20200102T220740
DESCRIPTION:Music from the Heart Class\nCost is $25 (BYO adhesive)\n\nMake 
 8 cards using the Music from the Heart Stamp set.\n\nAddress will be provi
 ded once rsvp received.\n\nEvent link: https://stampinup.net/crm/events/33
 055
LAST-MODIFIED:20200102T220740
LOCATION:West Pennant Hills\, NSW
ORGANIZER;CN=Sharon Wilson:mailto:Shazza@argyle.com.au
SUMMARY:Music from the Heart Stamp a Stack
URL;VALUE=URI:https://stampinup.net/crm/events/33055
END:VEVENT
END:VCALENDAR
