BEGIN:VCALENDAR
VERSION:2.0
PRODID:icalendar-ruby
CALSCALE:GREGORIAN
METHOD:PUBLISH
BEGIN:VEVENT
DTSTAMP:20260421T132008Z
UID:event-32529@stampinup.net
DTSTART;TZID=America/Chicago:20200109T180000
DTEND;TZID=America/Chicago:20200109T200000
CREATED:20200101T222018
DESCRIPTION:If you received the Something for Eveything December 2019 Paper
  Pumpkin kit bring it to my stamping spot in Augusta and we wlll put our k
 its together.  I will also have four alternate products available to crea
 te with the pieces of your Paper Pumpkin kit.  \nCost = $5\nRSVP by Mond
 ay\, January 6\n\nEvent link: https://stampinup.net/crm/events/32529
LAST-MODIFIED:20200103T155432
ORGANIZER;CN=Angel Shaver:mailto:angelstamps@adaptivecrafting.com
SUMMARY:Something for Everything Paper Pumpkin Class
URL;VALUE=URI:https://stampinup.net/crm/events/32529
END:VEVENT
END:VCALENDAR
