BEGIN:VCALENDAR
VERSION:2.0
PRODID:icalendar-ruby
CALSCALE:GREGORIAN
METHOD:PUBLISH
BEGIN:VEVENT
DTSTAMP:20260424T173536Z
UID:event-32474@stampinup.net
DTSTART;TZID=America/New_York:20200201T090000
DTEND;TZID=America/New_York:20200201T120000
CREATED:20200101T203441
DESCRIPTION:I will be stamping with a wonderful group of ladies as we learn
  new techniques\, some simple stamping and fellowship.  This group of lad
 ies have been stamping together for over 15 years!  If you would like to 
 join a club\, or start one with your own group of friends\, contact me for
  more details.  It's a great way to learn how to use your Stampin' Up! su
 pplies.\n\nEvent link: https://stampinup.net/crm/events/32474
LAST-MODIFIED:20200101T203441
LOCATION:Port Byron Federated Church
ORGANIZER;CN=Nancy Thompson:mailto:stampinnancyink@gmail.com
SUMMARY:Port Byron Stamp Club
URL;VALUE=URI:https://stampinup.net/crm/events/32474
END:VEVENT
END:VCALENDAR
