BEGIN:VCALENDAR
VERSION:2.0
PRODID:icalendar-ruby
CALSCALE:GREGORIAN
METHOD:PUBLISH
BEGIN:VEVENT
DTSTAMP:20260421T030939Z
UID:event-32470@stampinup.net
DTSTART;TZID=America/New_York:20200202T130000
DTEND;TZID=America/New_York:20200202T160000
CREATED:20200101T202827
DESCRIPTION:Come join me and my amazing group of downline as we create proj
 ects\, inspire each other and share business tips.  This meeting is for t
 he hobbist and business demonstrator.  \nIf you have thought you would li
 ke to get a discount on crafting supplies or invite and share Stampin' Up!
  with your family and friends\, then contact me so I can discuss more abou
 t this amazing opportunity.\n\nEvent link: https://stampinup.net/crm/event
 s/32470
LAST-MODIFIED:20200101T202827
LOCATION:Nancy's Home\, 3860A Highland Avenue\, Skaneateles
ORGANIZER;CN=Nancy Thompson:mailto:stampinnancyink@gmail.com
SUMMARY:Team Meeting
URL;VALUE=URI:https://stampinup.net/crm/events/32470
END:VEVENT
END:VCALENDAR
