BEGIN:VCALENDAR
VERSION:2.0
PRODID:icalendar-ruby
CALSCALE:GREGORIAN
METHOD:PUBLISH
BEGIN:VEVENT
DTSTAMP:20260420T062523Z
UID:event-32363@stampinup.net
DTSTART;VALUE=DATE:20200103
DTEND;VALUE=DATE:20200103
CREATED:20200101T173216
DESCRIPTION:New Mini Catalog goes Live today\, January 3rd.  What we used 
 to refer to as the Ocassions catalog\, now called the Jan-June 2020 Mini C
 atalog is anything but mini!  It is jam packed full of great new products
  for all the holidays this first half of 2020.\n\nEvent link: https://stam
 pinup.net/crm/events/32363
LAST-MODIFIED:20200101T173216
ORGANIZER;CN=Susie Kalantarian:mailto:SUSIE@KALANTARIAN.NET
SUMMARY:January-June 2020 Catalog goes Live!
URL;VALUE=URI:https://stampinup.net/crm/events/32363
END:VEVENT
END:VCALENDAR
