BEGIN:VCALENDAR
VERSION:2.0
PRODID:icalendar-ruby
CALSCALE:GREGORIAN
METHOD:PUBLISH
BEGIN:VEVENT
DTSTAMP:20260425T190534Z
UID:event-32362@stampinup.net
DTSTART;TZID=America/Los_Angeles:20200107T130000
DTEND;TZID=America/Los_Angeles:20200107T160000
CREATED:20200101T173001
DESCRIPTION:Tuesday card workshop Hostess is Barb.  We'll be making 3 card
 s.  Please bring your usual supplies.  Cost for guests (not club members
 ) - $10 or free with a minimum $35 order (that’s before shipping &amp\;
  sales tax).  See you then!\n\nEvent link: https://stampinup.net/crm/even
 ts/32362
LAST-MODIFIED:20200107T004036
LOCATION:At Barb's\, 220 W Javis Ave
ORGANIZER;CN=Barbara Mann:mailto:barbmann@mchsi.com
SUMMARY:Tuesday Afternoon Card Workshop
URL;VALUE=URI:https://stampinup.net/crm/events/32362
END:VEVENT
END:VCALENDAR
