BEGIN:VCALENDAR
VERSION:2.0
PRODID:icalendar-ruby
CALSCALE:GREGORIAN
METHOD:PUBLISH
BEGIN:VEVENT
DTSTAMP:20260420T173516Z
UID:event-32340@stampinup.net
DTSTART;VALUE=DATE:20200101
DTEND;VALUE=DATE:20200101
CREATED:20200101T165301
DESCRIPTION:Happy New Year!  \nJanuary's Host Code is V V N E F 7 N 4\nHo
 st Code Gift from me in January is the Heart Epoxy Droplets\n\nEvent link:
  https://stampinup.net/crm/events/32340
LAST-MODIFIED:20200101T165301
ORGANIZER;CN=Susie Kalantarian:mailto:SUSIE@KALANTARIAN.NET
SUMMARY:Happy New Year!  January Code: VVNEF7N4
URL;VALUE=URI:https://stampinup.net/crm/events/32340
END:VEVENT
END:VCALENDAR
