BEGIN:VCALENDAR
VERSION:2.0
PRODID:icalendar-ruby
CALSCALE:GREGORIAN
METHOD:PUBLISH
BEGIN:VEVENT
DTSTAMP:20260423T052309Z
UID:event-32339@stampinup.net
DTSTART;TZID=America/Chicago:20210303T180000
DTEND;TZID=America/Chicago:20210303T210000
CREATED:20200101T165202
DESCRIPTION:Stamp Camps are usually on the 1st Wednesdays of every month :)
 \n\nCamps are Make N Take style. You work at your own pace which means if 
 you can't make it right at 6pm\, that's okay...just come when you can. STA
 MP CAMPS ARE FREE with minimum purchase (or $15 fee) I provide all the sup
 plies needed for the projects plus a small snack and drink.\n\nIf you pref
 er to pay the $15 FEE for your stamp camp...I do offer a STAMP CAMP punch 
 card. Once you pay for 5 camps\, your next one is FREE!!!\n\nMake sure to 
 RSVP the SUNDAY week before the event. If you cancel within 24 hours of cl
 ass\, you will still need to pay for class. You will get all supplies and 
 everything but the stamped images for you to complete the cards.\n\nEvent 
 link: https://stampinup.net/crm/events/32339
LAST-MODIFIED:20241117T201346
LOCATION:Stampin Unicorns\, 2205 S Wallonnie Dr\, Marshfield WI  54449
ORGANIZER;CN=Elizabeth Giles:mailto:stampinunicorns@gmail.com
SUMMARY:Monthly Stamp Camp
URL;VALUE=URI:https://stampinup.net/crm/events/32339
END:VEVENT
END:VCALENDAR
