BEGIN:VCALENDAR
VERSION:2.0
PRODID:icalendar-ruby
CALSCALE:GREGORIAN
METHOD:PUBLISH
BEGIN:VEVENT
DTSTAMP:20260422T071125Z
UID:event-31668@stampinup.net
DTSTART;TZID=Pacific/Honolulu:20200113T130000
DTEND;TZID=Pacific/Honolulu:20200113T150000
CREATED:20191230T203213
DESCRIPTION:Join us at the fun class where we'll make this several projects
  for Valentine's Day!\n\nPlease bring your own adhesives.  These will als
 o be available at class for purchase.\n\n \n\nCall Kaunoa at (808) 270-73
 08 to sign up.\n\n\nEvent link: https://stampinup.net/crm/events/31668
LAST-MODIFIED:20191230T203213
LOCATION:Kaunoa Senior Center\, 401 Alakapa Pl\, Paia\, HI 96779
ORGANIZER;CN=Cheryl Hamilton:mailto:cheryl@createwithcheryl.me
SUMMARY:Kaunoa Senior Center4
URL;VALUE=URI:https://stampinup.net/crm/events/31668
END:VEVENT
END:VCALENDAR
