BEGIN:VCALENDAR
VERSION:2.0
PRODID:icalendar-ruby
CALSCALE:GREGORIAN
METHOD:PUBLISH
BEGIN:VEVENT
DTSTAMP:20260422T232318Z
UID:event-31081@stampinup.net
DTSTART;TZID=America/New_York:20200308T140000
DTEND;TZID=America/New_York:20200308T160000
CREATED:20191229T122620
DESCRIPTION:Timeless Tulips will be used in this class. The flower punch is
  so versitile!\nMake 4 cards w/a products included for $20.\nBuy the Bundl
 e and get a special deal from me. \n\nEvent link: https://stampinup.net/c
 rm/events/31081
LAST-MODIFIED:20191229T123136
LOCATION:Kim's Place\, Willis
ORGANIZER;CN=Kimberly Gora:mailto:kagora08@aol.com
SUMMARY:Timeless Tulips/Product Based Class
URL;VALUE=URI:https://stampinup.net/crm/events/31081
END:VEVENT
END:VCALENDAR
