BEGIN:VCALENDAR
VERSION:2.0
PRODID:icalendar-ruby
CALSCALE:GREGORIAN
METHOD:PUBLISH
BEGIN:VEVENT
DTSTAMP:20260423T103828Z
UID:event-30912@stampinup.net
DTSTART;TZID=America/Chicago:20200116T143000
DTEND;TZID=America/Chicago:20200116T200000
CREATED:20191228T175005
DESCRIPTION:Please RSVP by December 13.\n\nLOCAL STAMP CLUB\nMake a commitm
 ent to order a minimum of $25 of merchandise each month and receive $5.00 
 OFF monthly classes. Additional $1 OFF the class for each additional $5 th
 at you order. Get FREE Catalogs while you are a member.  Place your month
 ly order by the stamp club date. I will keep track of your orders.  When 
 you have reached $250 in merchandise\, you will receive $25 in hostess ben
 efits with your next order.  You can pick up your monthly order at the ne
 xt month’s class. You can attend class on any of the class dates\, you a
 re not restricted to the stamp club date. If there is a month when I do no
 t hold classes\, I will email you a pdf tutorial for the cards of the mont
 h. Download pdf for more info!\n\nONLINE STAMP CLUB\nMake a commitment to 
 order a minimum of $25 of merchandise (before shipping &amp\; tax) each mo
 nth in my online store using the monthly hostess code by the stamp club da
 te.  I will keep track of your orders.  When you have reached $250 in me
 rchandise\, you will receive $25 in hostess benefits with your next order.
  (To get free shipping on your hostess benefits\, it must accompany an ord
 er. I will have to place that order for you.  In Wisconsin and Minnesota\
 , you will be responsible for sales tax on the hostess benefits. Other sta
 tes will depend on your states tax laws.) I will email you a pdf tutorial 
 each month for the class cards of the month. If you wish to purchase the s
 upplies for the class\, you may do so using the same discounts as the loca
 l members plus $6.95 shipping. Kits must be ordered by the order deadline 
 each month. Download pdf for more info.\n\nEvent link: https://stampinup.n
 et/crm/events/30912
LAST-MODIFIED:20191228T175005
ORGANIZER;CN=Susan Miller:mailto:STAMPIN@DREAMLAKEDESIGN.COM
SUMMARY:Stamp Club Meeting
URL;VALUE=URI:https://stampinup.net/crm/events/30912
END:VEVENT
END:VCALENDAR
