BEGIN:VCALENDAR
VERSION:2.0
PRODID:icalendar-ruby
CALSCALE:GREGORIAN
METHOD:PUBLISH
BEGIN:VEVENT
DTSTAMP:20260422T182700Z
UID:event-2963@stampinup.net
DTSTART;TZID=Pacific/Auckland:20190914T133000
DTEND;TZID=Pacific/Auckland:20190914T160000
CREATED:20190911T183422
DESCRIPTION:Join this social group for crafting fun where I show you how to
  make handmade cards.\nAll materials are supplied along with free tea &amp
 \; coffee and sweet treat.\nSpaces are limited so book early using this li
 nk to secure your booking. Please contact me if you need more details.\n\n
 Event link: https://stampinup.net/crm/events/2963
LAST-MODIFIED:20190911T184929
LOCATION:Confetti Card Studio\, Once you register
ORGANIZER;CN=Vanessa Baker:mailto:vanessa@confetticardstudio.nz
SUMMARY:Card Making Class Project Set 1
URL;VALUE=URI:https://stampinup.net/crm/events/2963
END:VEVENT
END:VCALENDAR
