BEGIN:VCALENDAR
VERSION:2.0
PRODID:icalendar-ruby
CALSCALE:GREGORIAN
METHOD:PUBLISH
BEGIN:VEVENT
DTSTAMP:20260424T020226Z
UID:event-29086@stampinup.net
DTSTART;TZID=America/Phoenix:20201031T150000
DTEND;TZID=America/Phoenix:20201031T183000
CREATED:20191215T114318
DESCRIPTION:I hope you can join us for our Paper Pumpkin Club!  This event
  takes place the last Saturday of every month\, 3 pm\, at my house.  Let 
 me know if you're coming\, so I can make sure to have enough snacks\, and 
 bring your Pumpkin along for our creative escape!  Contact me if you have
  any questions about how to join in!\n\nEvent link: https://stampinup.net/
 crm/events/29086
LAST-MODIFIED:20191215T114318
LOCATION:chez Heroldt\, 10255 E Verbena Ln\, Scottsdale AZ
ORGANIZER;CN=Heather Heroldt:mailto:heatherheroldt@msn.com
SUMMARY:Pumpkin Club
URL;VALUE=URI:https://stampinup.net/crm/events/29086
END:VEVENT
END:VCALENDAR
