BEGIN:VCALENDAR
VERSION:2.0
PRODID:icalendar-ruby
CALSCALE:GREGORIAN
METHOD:PUBLISH
BEGIN:VEVENT
DTSTAMP:20260422T003636Z
UID:event-29062@stampinup.net
DTSTART;TZID=America/New_York:20200118T090000
DTEND;TZID=America/New_York:20200118T120000
CREATED:20191215T112439
DESCRIPTION:Monthly All Occasions Card Class for just $20. You will make 8 
 cards (4 designs\, 2 each design) with envelopes. RSVP 48 hours before cla
 ss. Class size is limited so contact me to reserve your spot! **This class
  is FREE with a minimum purchase placed during the class.*\n\nEvent link: 
 https://stampinup.net/crm/events/29062
LAST-MODIFIED:20191215T112439
ORGANIZER;CN=Dawn Stock:mailto:StampingWithDawn@hotmail.com
SUMMARY:All Occasions Card Class
URL;VALUE=URI:https://stampinup.net/crm/events/29062
END:VEVENT
END:VCALENDAR
