BEGIN:VCALENDAR
VERSION:2.0
PRODID:icalendar-ruby
CALSCALE:GREGORIAN
METHOD:PUBLISH
BEGIN:VEVENT
DTSTAMP:20260421T072311Z
UID:event-28328@stampinup.net
DTSTART;TZID=America/New_York:20200504T190000
DTEND;TZID=America/New_York:20200504T210000
CREATED:20191209T181324
DESCRIPTION:Technique Class Come learn some fun techniques for your cards. 
 You’ll make 3 step-up wow projects and learn some new things.  We usual
 ly meet on the first Monday of each month.$25 or FREE with an order (min. 
 $30). Enjoy this class each month\, free catalogues\, free product\, birth
 day discount and more when you become a stampin4fun club member.  Ask me 
 for details!  RSVP required. Class will run via video conference.  Cardm
 aking Packets can be picked up from my porch in advance of the class or pa
 ckets can be mailed immediately following the class. \n\n\nEvent link: ht
 tps://stampinup.net/crm/events/28328
LAST-MODIFIED:20200425T131123
LOCATION:My home studio in Markham
ORGANIZER;CN=Genevieve Ko:mailto:genstampin4fun@gmail.com
SUMMARY:Evening Technique Class
URL;VALUE=URI:https://stampinup.net/crm/events/28328
END:VEVENT
END:VCALENDAR
