BEGIN:VCALENDAR
VERSION:2.0
PRODID:icalendar-ruby
CALSCALE:GREGORIAN
METHOD:PUBLISH
BEGIN:VEVENT
DTSTAMP:20260421T072333Z
UID:event-28327@stampinup.net
DTSTART;TZID=America/New_York:20200504T100000
DTEND;TZID=America/New_York:20200504T120000
CREATED:20191209T181159
DESCRIPTION:Technique Class Come learn some fun techniques for your cards. 
 You’ll make 3 step-up wow projects and learn some new things.  We usual
 ly meet on the first Monday of each month.$25 or FREE with an order (min. 
 $30). Enjoy this class each month\, free catalogues\, free product\, birth
 day discount and more when you become a stampin4fun club member.  Ask me 
 for details!  RSVP required. Class will run via video conference.  cardm
 aking packets can be picked up from my house in advance of the class or ma
 iled after the class. \n\n\nEvent link: https://stampinup.net/crm/events/
 28327
LAST-MODIFIED:20200425T130947
LOCATION:zoom video conference
ORGANIZER;CN=Genevieve Ko:mailto:genstampin4fun@gmail.com
SUMMARY:Morning Technique Class
URL;VALUE=URI:https://stampinup.net/crm/events/28327
END:VEVENT
END:VCALENDAR
