BEGIN:VCALENDAR
VERSION:2.0
PRODID:icalendar-ruby
CALSCALE:GREGORIAN
METHOD:PUBLISH
BEGIN:VEVENT
DTSTAMP:20260424T150804Z
UID:event-280811@stampinup.net
DTSTART;TZID=Pacific/Auckland:20260429T190000
DTEND;TZID=Pacific/Auckland:20260429T210000
CREATED:20260423T220710
DESCRIPTION:Come join us for a little therapeutic time away from a screen.
   Enjoy the company of lovely ladies\, while you create 3 simple but stun
 ning cards.\n\nEvent link: https://stampinup.net/crm/events/280811
LAST-MODIFIED:20260423T220710
LOCATION:Crop Craft Create studio\, Dannemora
ORGANIZER;CN=Megan Lawrence:mailto:megan@cropcraftcreate.com
SUMMARY:Card Creations
URL;VALUE=URI:https://stampinup.net/crm/events/280811
END:VEVENT
END:VCALENDAR
