BEGIN:VCALENDAR
VERSION:2.0
PRODID:icalendar-ruby
CALSCALE:GREGORIAN
METHOD:PUBLISH
BEGIN:VEVENT
DTSTAMP:20260424T182732Z
UID:event-280743@stampinup.net
DTSTART;TZID=America/New_York:20260422T123000
DTEND;TZID=America/New_York:20260422T143000
CREATED:20260422T214133
DESCRIPTION:Papercrafting class. \nBring your own project ..... card makin
 g\, scrapbooking\, paper pumpkin kit\, etc. \nOr\, I can do a kit class f
 or a minimal fee. \nRSVP required. 828-234-3750 call or text. \n\nEvent 
 link: https://stampinup.net/crm/events/280743
LAST-MODIFIED:20260422T214133
LOCATION:Alexander Co Senior Center\, Taylorsville\, NC. 
ORGANIZER;CN=Sandy Herman:mailto:shermanstamps@yahoo.com
SUMMARY:Papercrafting Class
URL;VALUE=URI:https://stampinup.net/crm/events/280743
END:VEVENT
END:VCALENDAR
