BEGIN:VCALENDAR
VERSION:2.0
PRODID:icalendar-ruby
CALSCALE:GREGORIAN
METHOD:PUBLISH
BEGIN:VEVENT
DTSTAMP:20260425T180444Z
UID:event-280705@stampinup.net
DTSTART;TZID=America/Chicago:20260423T170000
DTEND;TZID=America/Chicago:20260423T183000
CREATED:20260422T134106
DESCRIPTION:Fourth and final session...in case you've missed the earlier se
 ssions\, here's one more opportunity to check out the new catalog! Reviews
  have been amazing...come see for yourself!\n\nWe'll do a catalog walkthro
 ugh\, talk of key features (new as well as returning favorites) and use ne
 w products. You'll go home with your own copy PLUS a $5 coupon to use off 
 a $25+ order May 1-5th when you place an order directly with me. Receiving
  your catalog early will give you plenty of time to make your list and che
 ck it twice! Just bring a drink for yourself and everything else will be p
 rovided.\n\nWOOHOO...I'm looking forward to brighter days and MUCH more st
 amping ahead! Reserve your spot for the Catalog Walkthrough by the 21st an
 d we'll have a great time! Of course\, you can get a catalog anytime...but
  coupons are reserved for those who attend the walkthrough.\n\nFourth and 
 final session...in case you've missed the earlier sessions\, here's one mo
 re opportunity to check out the new catalog! Reviews have been amazing...c
 ome see for yourself!\nWe'll do a catalog walkthrough\, talk of key featur
 es (new as well as returning favorites) and use new products. You'll go ho
 me with your own copy PLUS a $5 coupon to use off a $25+ order May 1-5th w
 hen you place an order directly with me. Receiving your catalog early will
  give you plenty of time to make your list and check it twice! Just bring 
 a drink for yourself and everything else will be provided.\n\nWOOHOO...I'm
  looking forward to brighter days and MUCH more stamping ahead! Reserve yo
 ur spot for the Catalog Walkthrough by the 21st and we'll have a great tim
 e! Of course\, you can get a catalog anytime...but coupons are reserved fo
 r those who attend the walkthrough.\n\nEvent link: https://stampinup.net/c
 rm/events/280705
LAST-MODIFIED:20260422T134106
LOCATION:Contact Me for Address
ORGANIZER;CN=Angie Brailsford:mailto:n2ink2@gmail.com
SUMMARY:Catalog Walkthrough Evening
URL;VALUE=URI:https://stampinup.net/crm/events/280705
END:VEVENT
END:VCALENDAR
