BEGIN:VCALENDAR
VERSION:2.0
PRODID:icalendar-ruby
CALSCALE:GREGORIAN
METHOD:PUBLISH
BEGIN:VEVENT
DTSTAMP:20260425T193638Z
UID:event-280702@stampinup.net
DTSTART;TZID=America/Chicago:20260414T173000
DTEND;TZID=America/Chicago:20260414T190000
CREATED:20260422T133650
DESCRIPTION:Complete honesty...I hate to start a statement by saying that p
 hrase as it could imply I've not been honest in the past\, which simply is
 n't true. That being said...to say I (and we as stampers and paper crafter
 s) have been disappointed in the annual catalog over the past couple of ye
 ars is an understatement. BUT I'm here to say Stampin' Up! has heard our p
 leas and the new catalog (starting May 5th) is totally different! Coming s
 oon is the best catalog we've had in recent memory! There will still be an
  online store with Online Exclusives\, but the physical copy will be MUCH 
 better\, showcase MORE product AND more details about those products!!!\n\
 nCome see for yourself on Tuesday\, April 14th @ 5:30 or Thursday\, April 
 16th @ 9 am or 2 pm. We'll do a catalog walkthrough\, talk of key features
  (new as well as returning favorites) and use new products. You'll go home
  with your own copy PLUS a $5 coupon to use off a $25+ order May 1-5th whe
 n you place an order directly with me. Receiving your catalog early will g
 ive you plenty of time to make your list and check it twice! Just bring a 
 drink for yourself and everything else will be provided along with a snack
 .\n\nWOOHOO...I'm looking forward to brighter days and MUCH more stamping 
 ahead! Reserve your spot for the Catalog Walkthrough by the 11th and we'll
  have a great time! Of course\, you can get a catalog after the 16th...but
  coupons are reserved for those who attend the walkthrough. If you're unab
 le to attend on the 14th or 16th\, please let me know and we'll set up ano
 ther session...you won't want to miss it!\n\nEvent link: https://stampinup
 .net/crm/events/280702
LAST-MODIFIED:20260422T133840
LOCATION:Contact Me for Address
ORGANIZER;CN=Angie Brailsford:mailto:n2ink2@gmail.com
SUMMARY:Catalog Walkthrough PM
URL;VALUE=URI:https://stampinup.net/crm/events/280702
END:VEVENT
END:VCALENDAR
